BEGIN:VCALENDAR
VERSION:2.0
PRODID:-//BHI - ECPv6.15.10//NONSGML v1.0//EN
CALSCALE:GREGORIAN
METHOD:PUBLISH
X-WR-CALNAME:BHI
X-ORIGINAL-URL:https://www.brainhealthinstitute.rutgers.edu
X-WR-CALDESC:Events for BHI
REFRESH-INTERVAL;VALUE=DURATION:PT1H
X-Robots-Tag:noindex
X-PUBLISHED-TTL:PT1H
BEGIN:VTIMEZONE
TZID:America/New_York
BEGIN:DAYLIGHT
TZOFFSETFROM:-0500
TZOFFSETTO:-0400
TZNAME:EDT
DTSTART:20250309T070000
END:DAYLIGHT
BEGIN:STANDARD
TZOFFSETFROM:-0400
TZOFFSETTO:-0500
TZNAME:EST
DTSTART:20251102T060000
END:STANDARD
BEGIN:DAYLIGHT
TZOFFSETFROM:-0500
TZOFFSETTO:-0400
TZNAME:EDT
DTSTART:20260308T070000
END:DAYLIGHT
BEGIN:STANDARD
TZOFFSETFROM:-0400
TZOFFSETTO:-0500
TZNAME:EST
DTSTART:20261101T060000
END:STANDARD
BEGIN:DAYLIGHT
TZOFFSETFROM:-0500
TZOFFSETTO:-0400
TZNAME:EDT
DTSTART:20270314T070000
END:DAYLIGHT
BEGIN:STANDARD
TZOFFSETFROM:-0400
TZOFFSETTO:-0500
TZNAME:EST
DTSTART:20271107T060000
END:STANDARD
END:VTIMEZONE
BEGIN:VEVENT
DTSTART;TZID=America/New_York:20260512T100000
DTEND;TZID=America/New_York:20260512T110000
DTSTAMP:20260424T221024
CREATED:20260401T183340Z
LAST-MODIFIED:20260401T183340Z
UID:8454-1778580000-1778583600@www.brainhealthinstitute.rutgers.edu
SUMMARY:RWJ-NCB Seminar Series (Hybrid): Dr. Thomas S. Vierbuchen - Sloan Kettering Institute
DESCRIPTION:“A Pluripotent Stem Cell Platform for Systems Genetics Studies of Mouse Development and Disease”\nPlease join us on Tuesday\, May 12\, 2026 at 10:00 am in the Research Tower\, Room V12 for an RWJ-Department of Neuroscience and Cell Biology Seminar Series featuring Thomas S. Vierbuchen\, PhD\, Assistant Member\, Developmental Biology Program in the Center for Stem Cell Biology at Sloan Kettering Institute.  The host for this seminar is Dr. Tulsi Patel (RWJ-Neuroscience and Cell Biology).  All are welcome to attend.     \nClick Here to Join \nMeeting ID: 991 8562 6685; Password: 134629
URL:https://www.brainhealthinstitute.rutgers.edu/event/rwj-ncb-seminar-series-hybrid-dr-thomas-s-vierbuchen-sloan-kettering-institute/
LOCATION:Research Tower\, Room V12
END:VEVENT
END:VCALENDAR