BEGIN:VCALENDAR
VERSION:2.0
PRODID:-//BHI - ECPv6.15.10//NONSGML v1.0//EN
CALSCALE:GREGORIAN
METHOD:PUBLISH
X-WR-CALNAME:BHI
X-ORIGINAL-URL:https://www.brainhealthinstitute.rutgers.edu
X-WR-CALDESC:Events for BHI
REFRESH-INTERVAL;VALUE=DURATION:PT1H
X-Robots-Tag:noindex
X-PUBLISHED-TTL:PT1H
BEGIN:VTIMEZONE
TZID:America/New_York
BEGIN:DAYLIGHT
TZOFFSETFROM:-0500
TZOFFSETTO:-0400
TZNAME:EDT
DTSTART:20250309T070000
END:DAYLIGHT
BEGIN:STANDARD
TZOFFSETFROM:-0400
TZOFFSETTO:-0500
TZNAME:EST
DTSTART:20251102T060000
END:STANDARD
BEGIN:DAYLIGHT
TZOFFSETFROM:-0500
TZOFFSETTO:-0400
TZNAME:EDT
DTSTART:20260308T070000
END:DAYLIGHT
BEGIN:STANDARD
TZOFFSETFROM:-0400
TZOFFSETTO:-0500
TZNAME:EST
DTSTART:20261101T060000
END:STANDARD
BEGIN:DAYLIGHT
TZOFFSETFROM:-0500
TZOFFSETTO:-0400
TZNAME:EDT
DTSTART:20270314T070000
END:DAYLIGHT
BEGIN:STANDARD
TZOFFSETFROM:-0400
TZOFFSETTO:-0500
TZNAME:EST
DTSTART:20271107T060000
END:STANDARD
END:VTIMEZONE
BEGIN:VEVENT
DTSTART;TZID=America/New_York:20260427T100000
DTEND;TZID=America/New_York:20260427T110000
DTSTAMP:20260424T164905
CREATED:20260327T130121Z
LAST-MODIFIED:20260327T130533Z
UID:8298-1777284000-1777287600@www.brainhealthinstitute.rutgers.edu
SUMMARY:Center for NeuroMetabolism Special Seminar (Hybrid): Aaron Wolfe\, PhD
DESCRIPTION:“Glycolytic specialization shapes neuronal physiology and function in vivo”\nGuest Speaker: Aaron Wolfe\, PhD\nPostdoctoral Associate\, Yale University \nDate | Time: Monday\, April 27\, 2026\, 10-11 am EST \nLocation: CHI 3209\, 89 French Street\, New Brunswick \nZoom: https://rutgers.zoom.us/j/94953430999?pwd=eNaGGgSisZs9bMwol2GaxWDhhGtpXa.1\nMeeting ID: 949 5343 0999\nPassword: 914492 \nHosted by: Zhiping Pang\, MD\, PhD\, Director\, Center for NeuroMetabolism
URL:https://www.brainhealthinstitute.rutgers.edu/event/center-for-neurometabolism-special-seminar-hybrid-aaron-wolfe-phd/
LOCATION:CHI 3209\, 89 French Street\, New Brunswick
ATTACH;FMTTYPE=image/png:https://www.brainhealthinstitute.rutgers.edu/wp-content/uploads/2026/03/FLYER-Seminar-Aaron-Wolfe-April-2710.png
END:VEVENT
BEGIN:VEVENT
DTSTART;TZID=America/New_York:20260427T120000
DTEND;TZID=America/New_York:20260427T130000
DTSTAMP:20260424T164905
CREATED:20260421T183238Z
LAST-MODIFIED:20260421T183238Z
UID:8713-1777291200-1777294800@www.brainhealthinstitute.rutgers.edu
SUMMARY:Neuroscience Seminar Series for Rising Scholars: Amber Howell\, PhD (PI: Linden Parkes &  Avram Holmes)
DESCRIPTION:“Thalamic Connectivity Constrains Functional Brain Dynamics”\nSpeaker: Amber Howell\, PhD\nPostdoctoral Fellow\, PI: Drs. Linden Parkes & Avram Holmes \nDate and Time: Monday\, April 27\, 2026\, 12:00 PM \nIn-Person: Room 127\, Staged Research Building (SRB)\, Busch Campus \nJoin via Zoom: Please email the host\, Dr. Noelle Stiles (noelle.stiles@rutgers.edu)\, or check the CAHBIR Slack #General thread for the link \nAbstract: Understanding how flexible brain dynamics emerge from a relatively fixed anatomical architecture is a fundamental goal in neuroscience. Mounting evidence points to the engagement of thalamic loops as a crucial mechanism by which cortical areas achieve functional flexibility. Through their dense\, reciprocal anatomical connections spanning the cortex\, thalamic loops are well positioned to shape brain dynamics\, yet their contribution to functional brain organization remains poorly defined\, particularly in humans. Here\, we integrate multimodal neuroimaging and behavioral data from a large cohort of healthy adults\, along with post-mortem tissue samples\, to characterize how the pattern of anatomical connections within the thalamus constrains cortical dynamics at rest. We find that cortical areas with more diffuse thalamic connections exhibit greater functional variability and reorganization of thalamocortical dynamics. Variation in thalamic connectivity patterns also aligns with distinct cortical cell-type profiles and an axis of cortical organization that links cortical functional variability to cognitive performance\, suggesting interactions between local microcircuit organization and long-range anatomical constraints to shape computational properties of the cortical sheet. Together\, these data reveal complex thalamocortical architectural constraints on cortical dynamics\, linking functional variability and underlying cellular mechanisms to interregional differences associated with cognitive function.: Understanding how flexible brain dynamics emerge from a relatively fixed anatomical architecture is a fundamental goal in neuroscience. Mounting evidence points to the engagement of thalamic loops as a crucial mechanism by which cortical areas achieve functional flexibility. Through their dense\, reciprocal anatomical connections spanning the cortex\, thalamic loops are well positioned to shape brain dynamics\, yet their contribution to functional brain organization remains poorly defined\, particularly in humans. Here\, we integrate multimodal neuroimaging and behavioral data from a large cohort of healthy adults\, along with post-mortem tissue samples\, to characterize how the pattern of anatomical connections within the thalamus constrains cortical dynamics at rest. We find that cortical areas with more diffuse thalamic connections exhibit greater functional variability and reorganization of thalamocortical dynamics. Variation in thalamic connectivity patterns also aligns with distinct cortical cell-type profiles and an axis of cortical organization that links cortical functional variability to cognitive performance\, suggesting interactions between local microcircuit organization and long-range anatomical constraints to shape computational properties of the cortical sheet. Together\, these data reveal complex thalamocortical architectural constraints on cortical dynamics\, linking functional variability and underlying cellular mechanisms to interregional differences associated with cognitive function.
URL:https://www.brainhealthinstitute.rutgers.edu/event/neuroscience-seminar-series-for-rising-scholars-amber-howell-phd-pi-linden-parkes-avram-holmes/
LOCATION:Room 127\, Staged Research Building (SRB)\, Busch Campus
ATTACH;FMTTYPE=image/png:https://www.brainhealthinstitute.rutgers.edu/wp-content/uploads/2026/04/Amber-Howell_Neuroscience-Seminar-Series-for-Rising-Scholars.png
END:VEVENT
END:VCALENDAR