BEGIN:VCALENDAR
VERSION:2.0
PRODID:-//BHI - ECPv6.15.10//NONSGML v1.0//EN
CALSCALE:GREGORIAN
METHOD:PUBLISH
X-WR-CALNAME:BHI
X-ORIGINAL-URL:https://www.brainhealthinstitute.rutgers.edu
X-WR-CALDESC:Events for BHI
REFRESH-INTERVAL;VALUE=DURATION:PT1H
X-Robots-Tag:noindex
X-PUBLISHED-TTL:PT1H
BEGIN:VTIMEZONE
TZID:America/New_York
BEGIN:DAYLIGHT
TZOFFSETFROM:-0500
TZOFFSETTO:-0400
TZNAME:EDT
DTSTART:20250309T070000
END:DAYLIGHT
BEGIN:STANDARD
TZOFFSETFROM:-0400
TZOFFSETTO:-0500
TZNAME:EST
DTSTART:20251102T060000
END:STANDARD
BEGIN:DAYLIGHT
TZOFFSETFROM:-0500
TZOFFSETTO:-0400
TZNAME:EDT
DTSTART:20260308T070000
END:DAYLIGHT
BEGIN:STANDARD
TZOFFSETFROM:-0400
TZOFFSETTO:-0500
TZNAME:EST
DTSTART:20261101T060000
END:STANDARD
BEGIN:DAYLIGHT
TZOFFSETFROM:-0500
TZOFFSETTO:-0400
TZNAME:EDT
DTSTART:20270314T070000
END:DAYLIGHT
BEGIN:STANDARD
TZOFFSETFROM:-0400
TZOFFSETTO:-0500
TZNAME:EST
DTSTART:20271107T060000
END:STANDARD
END:VTIMEZONE
BEGIN:VEVENT
DTSTART;TZID=America/New_York:20260425T100000
DTEND;TZID=America/New_York:20260425T160000
DTSTAMP:20260424T164258
CREATED:20260123T084354Z
LAST-MODIFIED:20260123T084354Z
UID:7156-1777111200-1777132800@www.brainhealthinstitute.rutgers.edu
SUMMARY:Rutgers Day 2026
DESCRIPTION:Rutgers Day 2026 will take place on Saturday\, April 25\, from 10 a.m. to 4 p.m. on the Cook/Douglass\, College Avenue\, and Busch campuses. Registration is open for schools\, departments\, centers\, and student organizations to submit their plans for Rutgers Day programming. Registration closes February 13\, 2026. \nTo learn more\, visit the Rutgers Day website\, click on “Program Provider Information – Submit a Program\,” and log in with your NET ID to review guidelines for creating a successful program\, download marketing materials to promote your activities\, and submit your program. Programs should be fun\, interactive\, and informative for our visitors. For programming tips\, view the Rutgers Day Webinar. \nBe ready to submit your Rutgers Day t-shirt order\, including quantities and sizes\, as part of the registration process. Each program may order up to 10 shirts. \nWould your unit like to participate in the Rutgers Day R Garden? Decorate a 3-foot wooden R to be displayed on Voorhees Mall during the event. Limited R’s are available\, so complete your application by February 13 to be considered. \nMark your calendar for Saturday\, April 25\, and take advantage of this opportunity to share all the great things that Rutgers has to offer. For questions\, email rutgersday@rutgers.edu.
URL:https://www.brainhealthinstitute.rutgers.edu/event/rutgers-day-2026/
ATTACH;FMTTYPE=image/jpeg:https://www.brainhealthinstitute.rutgers.edu/wp-content/uploads/2026/01/rutgers-day-2026.jpeg
END:VEVENT
END:VCALENDAR