BEGIN:VCALENDAR
VERSION:2.0
PRODID:-//BHI - ECPv6.15.10//NONSGML v1.0//EN
CALSCALE:GREGORIAN
METHOD:PUBLISH
X-WR-CALNAME:BHI
X-ORIGINAL-URL:https://www.brainhealthinstitute.rutgers.edu
X-WR-CALDESC:Events for BHI
REFRESH-INTERVAL;VALUE=DURATION:PT1H
X-Robots-Tag:noindex
X-PUBLISHED-TTL:PT1H
BEGIN:VTIMEZONE
TZID:America/New_York
BEGIN:DAYLIGHT
TZOFFSETFROM:-0500
TZOFFSETTO:-0400
TZNAME:EDT
DTSTART:20250309T070000
END:DAYLIGHT
BEGIN:STANDARD
TZOFFSETFROM:-0400
TZOFFSETTO:-0500
TZNAME:EST
DTSTART:20251102T060000
END:STANDARD
BEGIN:DAYLIGHT
TZOFFSETFROM:-0500
TZOFFSETTO:-0400
TZNAME:EDT
DTSTART:20260308T070000
END:DAYLIGHT
BEGIN:STANDARD
TZOFFSETFROM:-0400
TZOFFSETTO:-0500
TZNAME:EST
DTSTART:20261101T060000
END:STANDARD
BEGIN:DAYLIGHT
TZOFFSETFROM:-0500
TZOFFSETTO:-0400
TZNAME:EDT
DTSTART:20270314T070000
END:DAYLIGHT
BEGIN:STANDARD
TZOFFSETFROM:-0400
TZOFFSETTO:-0500
TZNAME:EST
DTSTART:20271107T060000
END:STANDARD
END:VTIMEZONE
BEGIN:VEVENT
DTSTART;VALUE=DATE:20260424
DTEND;VALUE=DATE:20260425
DTSTAMP:20260425T171316
CREATED:20260317T142027Z
LAST-MODIFIED:20260319T112456Z
UID:8118-1776988800-1777075199@www.brainhealthinstitute.rutgers.edu
SUMMARY:Rutgers Giving Day
DESCRIPTION:Rutgers Giving Day is coming on April 24\, and we invite you to mark your calendar in support of the Brain Health Institute. \nAt BHI\, discovery does not stop in the lab. It moves research closer to real-world impact for patients\, families\, and communities. Your support helps fuel the work that drives brain health research forward across neuroscience\, clinical innovation\, education\, and collaboration. \nThis year\, we look forward to sharing more about the people\, centers\, and research that make BHI’s work possible—and why that work matters. \nSupport BHI: https://brainhealthinstitute.rutgers.edu/support-bhi/
URL:https://www.brainhealthinstitute.rutgers.edu/event/rutgers-giving-day/
ATTACH;FMTTYPE=image/jpeg:https://www.brainhealthinstitute.rutgers.edu/wp-content/uploads/2026/03/BHI_GD26_EM_1200x600_Save-Date.jpg
END:VEVENT
END:VCALENDAR