BEGIN:VCALENDAR
VERSION:2.0
PRODID:-//BHI - ECPv6.15.10//NONSGML v1.0//EN
CALSCALE:GREGORIAN
METHOD:PUBLISH
X-WR-CALNAME:BHI
X-ORIGINAL-URL:https://www.brainhealthinstitute.rutgers.edu
X-WR-CALDESC:Events for BHI
REFRESH-INTERVAL;VALUE=DURATION:PT1H
X-Robots-Tag:noindex
X-PUBLISHED-TTL:PT1H
BEGIN:VTIMEZONE
TZID:America/New_York
BEGIN:DAYLIGHT
TZOFFSETFROM:-0500
TZOFFSETTO:-0400
TZNAME:EDT
DTSTART:20250309T070000
END:DAYLIGHT
BEGIN:STANDARD
TZOFFSETFROM:-0400
TZOFFSETTO:-0500
TZNAME:EST
DTSTART:20251102T060000
END:STANDARD
BEGIN:DAYLIGHT
TZOFFSETFROM:-0500
TZOFFSETTO:-0400
TZNAME:EDT
DTSTART:20260308T070000
END:DAYLIGHT
BEGIN:STANDARD
TZOFFSETFROM:-0400
TZOFFSETTO:-0500
TZNAME:EST
DTSTART:20261101T060000
END:STANDARD
BEGIN:DAYLIGHT
TZOFFSETFROM:-0500
TZOFFSETTO:-0400
TZNAME:EDT
DTSTART:20270314T070000
END:DAYLIGHT
BEGIN:STANDARD
TZOFFSETFROM:-0400
TZOFFSETTO:-0500
TZNAME:EST
DTSTART:20271107T060000
END:STANDARD
END:VTIMEZONE
BEGIN:VEVENT
DTSTART;TZID=America/New_York:20260406T110000
DTEND;TZID=America/New_York:20260406T120000
DTSTAMP:20260424T090055
CREATED:20260329T210857Z
LAST-MODIFIED:20260401T131225Z
UID:8330-1775473200-1775476800@www.brainhealthinstitute.rutgers.edu
SUMMARY:Special BHI Seminar: Zachary Freyberg\, MD\, PhD - University of Pittsburgh
DESCRIPTION:“Opening New Windows into Dopamine Cell Biology in Health and Disease.”\nSpeaker: Zachary Freyberg\, M.D.\, Ph.D.\nAssociate Professor of Psychiatry\, Associate Professor of Cell Biology\, University of Pittsburgh\, School of Medicine\, PA \nWhen: Monday\, April 6\, 2026\, at 11 AM (EST) \nJoin Zoom Meeting: https://rutgers.zoom.us/j/99170867330?pwd=fcAEcVRkZUuXC5OfEo1SHGtELc0cSV.1\nMeeting ID: 991 7086 7330\nPasscode: 040626
URL:https://www.brainhealthinstitute.rutgers.edu/event/special-bhi-seminar-zachary-freyberg-md-phd/
ATTACH;FMTTYPE=image/png:https://www.brainhealthinstitute.rutgers.edu/wp-content/uploads/2026/03/BHI-Special-Seminar_040626.png
END:VEVENT
END:VCALENDAR